BEGIN:VCALENDAR
VERSION:2.0
PRODID:-//AudioTheme 1.7.1
BEGIN:VEVENT
UID:https://christianberger.ch/?post_type=audiotheme_gig&#038;p=1288
URL:https://christianberger.ch/shows/25-jahre-cantacapella-der-chor-mit-herz-2/
DTSTART;TZID=GMT:20250315T190000
SUMMARY:25 Jahre - cantacapella - der Chor mit Herz
DESCRIPTION:Leitung: Christian Berger
LOCATION:Offene Kirche\, St. Gallen
END:VEVENT
END:VCALENDAR