BEGIN:VCALENDAR
VERSION:2.0
PRODID:-//AudioTheme 1.7.1
BEGIN:VEVENT
UID:https://christianberger.ch/?post_type=audiotheme_gig&#038;p=1219
URL:https://christianberger.ch/shows/aion-quartett-13/
DTSTART;TZID=GMT:20231216T190000
SUMMARY:AION quartett
DESCRIPTION:Christian Berger: Oud\, Gitarre / Thomas Küng: Sopransax\, Flügelhorn / Jürg Surber: Kontrabass / Dominic Doppler: Schlagzeug
LOCATION:Rathausbühne Willisau LU
END:VEVENT
END:VCALENDAR