BEGIN:VCALENDAR
VERSION:2.0
PRODID:-//AudioTheme 1.7.1
BEGIN:VEVENT
UID:https://christianberger.ch/?post_type=audiotheme_gig&#038;p=1244
URL:https://christianberger.ch/shows/aion-quartett-14/
DTSTART;TZID=GMT:20231208T180000
SUMMARY:AION quartett
DESCRIPTION:Christian Berger\; Oud\, Gitarre / Thomas Küng\; Sopransaxophon\, Flügelhorn / Jürg Surber\; Kontrabass / Dominic Doppler\; Schlagzeug\, Perkussionsinstrumenten
LOCATION:Alpenhof\, St. Antonstrasse 62\, 9413 Oberegg
END:VEVENT
END:VCALENDAR