BEGIN:VCALENDAR
VERSION:2.0
PRODID:-//AudioTheme 1.7.1
BEGIN:VEVENT
UID:https://christianberger.ch/?post_type=audiotheme_gig&#038;p=1294
URL:https://christianberger.ch/shows/aion-quartett-15/
DTSTART;TZID=GMT:20250109T173000
SUMMARY:AION quartett
DESCRIPTION:Christian Berger\; Gitarre\, Oud / Thomas Küng\; Sopransaxophon\, Flügelhorn / Jürg Surber\; Kontrabass / Dominic Doppler\; Schlagzeug 
LOCATION:Bistro Liebestrasse 3\, 8400 Winterthur
END:VEVENT
END:VCALENDAR