BEGIN:VCALENDAR
VERSION:2.0
PRODID:-//AudioTheme 1.7.1
BEGIN:VEVENT
UID:https://christianberger.ch/?post_type=audiotheme_gig&#038;p=1302
URL:https://christianberger.ch/shows/aion-quartett-16/
DTSTART;TZID=GMT:20250308T191500
SUMMARY:AION quartett
DESCRIPTION:Christian Berger\; Oud\, Gitarre / Thomas Küng\; Sopransaxophon\, Flügelhorn / Jürg Surber\; Kontrabass / Dominic Doppler\; Schlagzeug 
LOCATION:Somehuus Sursee
END:VEVENT
END:VCALENDAR