BEGIN:VCALENDAR
VERSION:2.0
PRODID:-//AudioTheme 1.7.1
BEGIN:VEVENT
UID:https://christianberger.ch/?post_type=audiotheme_gig&#038;p=1312
URL:https://christianberger.ch/shows/aion-quartett-17/
DTSTART;TZID=GMT:20250816T173000
SUMMARY:AION quartett
DESCRIPTION:Christian Berger\; Oud\, Gitarre\, Komposition / Thomas Küng\; Sopransaxophon\, Flügelhorn / Jürg Surber\; Kontrabass / Dominic Doppler\; Schlagzeug
LOCATION:Bildungsfestival Weggis
END:VEVENT
END:VCALENDAR