BEGIN:VCALENDAR
VERSION:2.0
PRODID:-//AudioTheme 1.7.1
BEGIN:VEVENT
UID:https://christianberger.ch/?post_type=audiotheme_gig&#038;p=1338
URL:https://christianberger.ch/shows/aion-quartett-18/
DTSTART;TZID=GMT:20260110T190000
SUMMARY:AION quartett
DESCRIPTION:Christian Berger\; Oud\, Gitarre / Thomas Küng\; Sopransaxophon\, Flügelhorn / Jürg Surber\; Kontrabass / Dominic Doppler\; Schlagzeug
LOCATION:Stuhlfabrik\, Herisau
END:VEVENT
END:VCALENDAR