BEGIN:VCALENDAR
VERSION:2.0
PRODID:-//AudioTheme 1.7.1
BEGIN:VEVENT
UID:https://christianberger.ch/?post_type=audiotheme_gig&#038;p=1347
URL:https://christianberger.ch/shows/aion-quartett-19/
DTSTART;TZID=GMT:20260123T190000
SUMMARY:AION quartett
DESCRIPTION:Christian Berger\, Oud\, Gitarre\, Komposition / Thomas Küng\, Saxophone\, Flügelhorn / Jürg Surber\, Kontrabass / Dominic Doppler\, Schlagzeug
LOCATION:Beau Sêjour\, Haldenstrasse 53\, CH-6006 Luzen
END:VEVENT
END:VCALENDAR