BEGIN:VCALENDAR
VERSION:2.0
PRODID:-//AudioTheme 1.7.1
BEGIN:VEVENT
UID:https://christianberger.ch/?post_type=audiotheme_gig&#038;p=1378
URL:https://christianberger.ch/shows/aion-quartett-20/
DTSTART;TZID=GMT:20260522T180000
SUMMARY:AION quartett
DESCRIPTION:Christian Berger\, Oud\, Gitarre\, Komposition / Thomas Küng\, Sopransax\, Flügelhorn / Jürg Surber\, Kontrabass / Dominic Doppler\, Schlagzeug\, Perkussion
LOCATION:Kultbau St.Gallen
END:VEVENT
END:VCALENDAR