BEGIN:VCALENDAR
VERSION:2.0
PRODID:-//AudioTheme 1.7.1
BEGIN:VEVENT
UID:https://christianberger.ch/?post_type=audiotheme_gig&#038;p=1391
URL:https://christianberger.ch/shows/aion-quartett-22/
DTSTART;TZID=GMT:20260620T180000
SUMMARY:AION quartett
DESCRIPTION:Christian Berger\, Oud\, Gitarre\, Komposition / Thomas Küng\, Flügelhorn\, Sopransax / Jürg Surber\, Kontrabass / Dominic Doppler\, Schlagzeug\, Perkussion
LOCATION:Hotel Bellavista\, Ftan
END:VEVENT
END:VCALENDAR