BEGIN:VCALENDAR
VERSION:2.0
PRODID:-//AudioTheme 1.7.1
BEGIN:VEVENT
UID:https://christianberger.ch/?post_type=audiotheme_gig&#038;p=1393
URL:https://christianberger.ch/shows/berger-kueng/
DTSTART;TZID=GMT:20260821T180000
SUMMARY:Berger & Küng
DESCRIPTION:Thomas Küng\, Sopransax\, Flügelhorn / Christian Berger\, Oud\, Gitarre\, Loop\, Komposition
LOCATION:Seebad Luzern
END:VEVENT
END:VCALENDAR