BEGIN:VCALENDAR
VERSION:2.0
PRODID:-//AudioTheme 1.7.1
BEGIN:VEVENT
UID:https://christianberger.ch/?post_type=audiotheme_gig&#038;p=1308
URL:https://christianberger.ch/shows/gig-1308/
DTSTART;TZID=GMT:20250221T183000
SUMMARY:AION quartett
DESCRIPTION:Christian Berger\; Oud\, Gitarre / Thomas Küng\; Sopransaxophon\, Flügelhorn / Jürg Surber\; Kontrabass / Dominic Doppler\; Schlagzeug 
LOCATION:Rössli\, Hinterdorf 5\, 9043 Trogen
END:VEVENT
END:VCALENDAR