BEGIN:VCALENDAR
VERSION:2.0
PRODID:-//AudioTheme 1.7.1
BEGIN:VEVENT
UID:https://christianberger.ch/?post_type=audiotheme_gig&#038;p=1335
URL:https://christianberger.ch/shows/gig-1335/
DTSTART;TZID=GMT:20251128T190000
SUMMARY:AUSVERKAUFT ! AION quartett
DESCRIPTION:Christian Berger\; Oud\, Gitarre / Thomas Küng\; Sopransaxophon\, Flügelhorn / Jürg Surber\; Kontrabass / Dominic Doppler\; Schlagzeug
LOCATION:Theater 111\, Grossackerstrasse 3\, 9000 St.Gallen
END:VEVENT
END:VCALENDAR