BEGIN:VCALENDAR
VERSION:2.0
PRODID:-//AudioTheme 1.7.1
BEGIN:VEVENT
UID:https://christianberger.ch/?post_type=audiotheme_gig&#038;p=1374
URL:https://christianberger.ch/shows/gig-1374/
DTSTART;TZID=GMT:20250823T181500
SUMMARY:Berger & Küng
DESCRIPTION:Thomas Küng\, Sax und Flügelhorn / Christian Berger\, Gitarre\, Oud und Loop
LOCATION:Seebad Luzern
END:VEVENT
END:VCALENDAR