BEGIN:VCALENDAR
VERSION:2.0
PRODID:-//AudioTheme 1.7.1
BEGIN:VEVENT
UID:https://christianberger.ch/?post_type=audiotheme_gig&#038;p=1367
URL:https://christianberger.ch/shows/gottesdienst-mit-ausstellungseroeffnung/
DTSTART;TZID=GMT:20250511T073000
SUMMARY:Gottesdienst mit Ausstellungseröffnung
DESCRIPTION:Christian Berger\, Oud / Thomas Küng\, Sopransaxophon\, Flügelhorn
LOCATION:Kirche Laufen am Rheinfall
END:VEVENT
END:VCALENDAR