BEGIN:VCALENDAR
VERSION:2.0
PRODID:-//AudioTheme 1.7.1
BEGIN:VEVENT
UID:https://christianberger.ch/?post_type=audiotheme_gig&#038;p=1233
URL:https://christianberger.ch/shows/lauschig-literaturfestival/
DTSTART;TZID=GMT:20230907T170000
SUMMARY:Lauschig / Literaturfestival
DESCRIPTION:Lesung: Usama Al Shamani und Ivna Zic / Musik: Christian Berger: Oud
LOCATION:Park der Villa Rychenberg\, Winterthur
END:VEVENT
END:VCALENDAR