BEGIN:VCALENDAR
VERSION:2.0
PRODID:-//AudioTheme 1.7.1
BEGIN:VEVENT
UID:https://christianberger.ch/?post_type=audiotheme_gig&#038;p=1210
URL:https://christianberger.ch/shows/lesung-mit-musik-4/
DTSTART;TZID=GMT:20230322T180000
SUMMARY:Lesung mit Musik
DESCRIPTION:Lesung: Kübra Gümüşay / Gitarre und Oud: Christian Berger / Schlagzeug: Dominic Doppler
LOCATION:Raum für Literatur\, St.Gallen
END:VEVENT
END:VCALENDAR