BEGIN:VCALENDAR
VERSION:2.0
PRODID:-//AudioTheme 1.7.1
BEGIN:VEVENT
UID:https://christianberger.ch/?post_type=audiotheme_gig&#038;p=1372
URL:https://christianberger.ch/shows/old-new-road/
DTSTART;TZID=GMT:20251012T150000
SUMMARY:Old & New Road
DESCRIPTION:Martin Schumacher\, Klarinetten / Christian Berger\, Oud\, Framedrum / Dominic Doppler\, Drums\, Perkussion
LOCATION:Kunstseminar Galerie Grimselweg 8 6005 Luzern
END:VEVENT
END:VCALENDAR