BEGIN:VCALENDAR
VERSION:2.0
PRODID:-//AudioTheme 1.7.1
BEGIN:VEVENT
UID:https://christianberger.ch/?post_type=audiotheme_gig&#038;p=1284
URL:https://christianberger.ch/shows/old-new-roads-4/
DTSTART;TZID=GMT:20240615T180000
SUMMARY:Old & New Roads
DESCRIPTION:Martin Schumacher Klarinette\, Türkische Klarinette\, Bassklarinette / Christian Berger Oud\, Rahmentrommel / Dominic Doppler Drums\, Percussion
LOCATION:Winkelhalden\, Haldenstrasse 3 a\, 8942 Oberrieden
END:VEVENT
END:VCALENDAR