BEGIN:VCALENDAR
VERSION:2.0
PRODID:-//AudioTheme 1.7.1
BEGIN:VEVENT
UID:https://christianberger.ch/?post_type=audiotheme_gig&#038;p=1292
URL:https://christianberger.ch/shows/old-new-roads-5/
DTSTART;TZID=GMT:20241107T173000
SUMMARY:Old & New Roads
DESCRIPTION:Martin Schumacher\, Klarinetten / Christian Berger\, Oud und Rahmentrommel / Dominic Doppler\, Schlagzeug\, Perkussion
LOCATION:Bistro Liebestrasse 3\, 8400 Winterthur
END:VEVENT
END:VCALENDAR