BEGIN:VCALENDAR
VERSION:2.0
PRODID:-//AudioTheme 1.7.1
BEGIN:VEVENT
UID:https://christianberger.ch/?post_type=audiotheme_gig&#038;p=1261
URL:https://christianberger.ch/shows/stories-15/
DTSTART;TZID=GMT:20231220T170000
SUMMARY:STORIES
DESCRIPTION:Christian Beger\, Gitarre / Dominic Doppler\, Schlagzeug
LOCATION:Figurentheater Herisau\, Oberdorfstrasse 18\, 9100 Herisau
END:VEVENT
END:VCALENDAR