BEGIN:VCALENDAR
VERSION:2.0
PRODID:-//AudioTheme 1.7.1
BEGIN:VEVENT
UID:https://christianberger.ch/?post_type=audiotheme_gig&#038;p=1341
URL:https://christianberger.ch/shows/welt-lyrik-festival-zuerichsee/
DTSTART;TZID=GMT:20251109T130000
SUMMARY:Welt-Lyrik-Festival Zürich
DESCRIPTION:Ferdinand  Schmatz\, Autor / Christian Berger\, Oud\,
LOCATION:Helferei\, Zürich
END:VEVENT
END:VCALENDAR